BEGIN:VCALENDAR
VERSION:2.0
PRODID:-//Aaron Nathans &amp; Michael G. Ronstadt - ECPv6.15.20//NONSGML v1.0//EN
CALSCALE:GREGORIAN
METHOD:PUBLISH
X-WR-CALNAME:Aaron Nathans &amp; Michael G. Ronstadt
X-ORIGINAL-URL:https://nathansandronstadt.com
X-WR-CALDESC:Events for Aaron Nathans &amp; Michael G. Ronstadt
REFRESH-INTERVAL;VALUE=DURATION:PT1H
X-Robots-Tag:noindex
X-PUBLISHED-TTL:PT1H
BEGIN:VTIMEZONE
TZID:America/New_York
BEGIN:DAYLIGHT
TZOFFSETFROM:-0500
TZOFFSETTO:-0400
TZNAME:EDT
DTSTART:20220313T070000
END:DAYLIGHT
BEGIN:STANDARD
TZOFFSETFROM:-0400
TZOFFSETTO:-0500
TZNAME:EST
DTSTART:20221106T060000
END:STANDARD
BEGIN:DAYLIGHT
TZOFFSETFROM:-0500
TZOFFSETTO:-0400
TZNAME:EDT
DTSTART:20230312T070000
END:DAYLIGHT
BEGIN:STANDARD
TZOFFSETFROM:-0400
TZOFFSETTO:-0500
TZNAME:EST
DTSTART:20231105T060000
END:STANDARD
BEGIN:DAYLIGHT
TZOFFSETFROM:-0500
TZOFFSETTO:-0400
TZNAME:EDT
DTSTART:20240310T070000
END:DAYLIGHT
BEGIN:STANDARD
TZOFFSETFROM:-0400
TZOFFSETTO:-0500
TZNAME:EST
DTSTART:20241103T060000
END:STANDARD
END:VTIMEZONE
BEGIN:VEVENT
DTSTART;TZID=America/New_York:20230521T160000
DTEND;TZID=America/New_York:20230521T180000
DTSTAMP:20260421T115309
CREATED:20230302T191343Z
LAST-MODIFIED:20230305T225356Z
UID:1592-1684684800-1684692000@nathansandronstadt.com
SUMMARY:School Library Concerts
DESCRIPTION:Nathans & Ronstadt play this house concert series for the first time. Write us for info about how to attend.
URL:https://nathansandronstadt.com/event/school-library-concerts/
LOCATION:School Library Concerts\, Trenton\, NJ\, 08618\, US
CATEGORIES:Hello World tour
END:VEVENT
BEGIN:VEVENT
DTSTART;TZID=America/New_York:20230519T080000
DTEND;TZID=America/New_York:20230519T223000
DTSTAMP:20260421T115309
CREATED:20230312T011456Z
LAST-MODIFIED:20230312T011456Z
UID:2225-1684483200-1684535400@nathansandronstadt.com
SUMMARY:Philly Album Release Show w/Greg Klyma
DESCRIPTION:Nathans & Ronstadt will celebrate the release of “Hello World” at Jamey’s House of Music\, with opening act Greg Klyma!
URL:https://nathansandronstadt.com/event/philly-album-release-show-w-greg-klyma/
LOCATION:Jamey’s House of Music\, 32 S. Lansdowne Ave.\, Lansdowne\, PA\, US
CATEGORIES:Hello World tour
END:VEVENT
BEGIN:VEVENT
DTSTART;TZID=America/New_York:20230415T190000
DTEND;TZID=America/New_York:20230415T210000
DTSTAMP:20260421T115309
CREATED:20230302T191343Z
LAST-MODIFIED:20230305T225349Z
UID:1593-1681585200-1681592400@nathansandronstadt.com
SUMMARY:XFS House Concert
DESCRIPTION:Write us for details. Start time is approximate.
URL:https://nathansandronstadt.com/event/xfs-house-concert/
LOCATION:XFS House Concert\, Glenside\, PA\, US
CATEGORIES:Hello World tour
END:VEVENT
END:VCALENDAR