BEGIN:VCALENDAR
VERSION:2.0
PRODID:-//Aaron Nathans &amp; Michael G. Ronstadt - ECPv6.15.20//NONSGML v1.0//EN
CALSCALE:GREGORIAN
METHOD:PUBLISH
X-ORIGINAL-URL:https://nathansandronstadt.com
X-WR-CALDESC:Events for Aaron Nathans &amp; Michael G. Ronstadt
REFRESH-INTERVAL;VALUE=DURATION:PT1H
X-Robots-Tag:noindex
X-PUBLISHED-TTL:PT1H
BEGIN:VTIMEZONE
TZID:America/New_York
BEGIN:DAYLIGHT
TZOFFSETFROM:-0500
TZOFFSETTO:-0400
TZNAME:EDT
DTSTART:20250309T070000
END:DAYLIGHT
BEGIN:STANDARD
TZOFFSETFROM:-0400
TZOFFSETTO:-0500
TZNAME:EST
DTSTART:20251102T060000
END:STANDARD
BEGIN:DAYLIGHT
TZOFFSETFROM:-0500
TZOFFSETTO:-0400
TZNAME:EDT
DTSTART:20260308T070000
END:DAYLIGHT
BEGIN:STANDARD
TZOFFSETFROM:-0400
TZOFFSETTO:-0500
TZNAME:EST
DTSTART:20261101T060000
END:STANDARD
BEGIN:DAYLIGHT
TZOFFSETFROM:-0500
TZOFFSETTO:-0400
TZNAME:EDT
DTSTART:20270314T070000
END:DAYLIGHT
BEGIN:STANDARD
TZOFFSETFROM:-0400
TZOFFSETTO:-0500
TZNAME:EST
DTSTART:20271107T060000
END:STANDARD
BEGIN:DAYLIGHT
TZOFFSETFROM:-0500
TZOFFSETTO:-0400
TZNAME:EDT
DTSTART:20280312T070000
END:DAYLIGHT
BEGIN:STANDARD
TZOFFSETFROM:-0400
TZOFFSETTO:-0500
TZNAME:EST
DTSTART:20281105T060000
END:STANDARD
END:VTIMEZONE
BEGIN:VEVENT
DTSTART;TZID=America/New_York:20260608T193000
DTEND;TZID=America/New_York:20260608T223000
DTSTAMP:20260423T070318
CREATED:20251219T002617Z
LAST-MODIFIED:20251219T002617Z
UID:2940-1780947000-1780957800@nathansandronstadt.com
SUMMARY:Second Mondays at 49 West!
DESCRIPTION:Aaron and Michael play Angie Miller’s Second Mondays showcase at 49 West in Annapolis.
URL:https://nathansandronstadt.com/event/second-mondays-at-49-west/
LOCATION:49 West\, 49 West St.\, Annapolis\, MD\, United States
END:VEVENT
BEGIN:VEVENT
DTSTART;TZID=America/New_York:20260716T200000
DTEND;TZID=America/New_York:20260716T220000
DTSTAMP:20260423T070318
CREATED:20260208T035025Z
LAST-MODIFIED:20260208T035025Z
UID:2957-1784232000-1784239200@nathansandronstadt.com
SUMMARY:Cafe Carpe co-bill with Tish Hinojosa
DESCRIPTION:Aaron and Michael split a bill with the great Tish Hinojosa at the famous Cafe Carpe in Fort Atkinson\, Wisconsin. Aaron’s first Wisconsin show in 18 years!
URL:https://nathansandronstadt.com/event/cafe-carpe-co-bill-with-tish-hinojosa/
LOCATION:Cafe Carpe\, 18 South Water St. West\, Fort Atkinson\, WI\, 53538\, United States
END:VEVENT
BEGIN:VEVENT
DTSTART;VALUE=DATE:20260719
DTEND;VALUE=DATE:20260720
DTSTAMP:20260423T070318
CREATED:20251103T013753Z
LAST-MODIFIED:20251103T013753Z
UID:2930-1784419200-1784505599@nathansandronstadt.com
SUMMARY:Woodstock Folk Festival
DESCRIPTION:Aaron and Michael play at the Woodstock Folk Festival in Illinois\, outside of Chicago.
URL:https://nathansandronstadt.com/event/woodstock-folk-festival/
LOCATION:Woodstock Folk Festival\, 112 W Van Buren St\, Woodstock\, IL
END:VEVENT
BEGIN:VEVENT
DTSTART;TZID=America/New_York:20261017T170000
DTEND;TZID=America/New_York:20261017T230000
DTSTAMP:20260423T070318
CREATED:20260320T002804Z
LAST-MODIFIED:20260320T002804Z
UID:2968-1792256400-1792278000@nathansandronstadt.com
SUMMARY:Delmarva Folk Festival
DESCRIPTION:Aaron and Michael return to the Delmarva Folk Festival.
URL:https://nathansandronstadt.com/event/delmarva-folk-festival/
LOCATION:Delmarva Folk Festival\, 352 Downs Chapel Rd.\, Hartly\, DE\, US
END:VEVENT
BEGIN:VEVENT
DTSTART;TZID=America/New_York:20261121T190000
DTEND;TZID=America/New_York:20261121T220000
DTSTAMP:20260423T070318
CREATED:20250506T222701Z
LAST-MODIFIED:20250506T222715Z
UID:2821-1795287600-1795298400@nathansandronstadt.com
SUMMARY:Shoeless Sounds
DESCRIPTION:House concert at this great series hosted by Jessica and Will. This event is at a private home\, please contact us for details. Yes\, its in 2026!
URL:https://nathansandronstadt.com/event/shoeless-sounds/
LOCATION:Shoeless Sounds\, Ashburn\, VA
END:VEVENT
BEGIN:VEVENT
DTSTART;TZID=America/New_York:20270502T150000
DTEND;TZID=America/New_York:20270502T170000
DTSTAMP:20260423T070318
CREATED:20251129T225756Z
LAST-MODIFIED:20251129T225756Z
UID:2937-1809270000-1809277200@nathansandronstadt.com
SUMMARY:Aaron & Michael at The Sunroom in 2027
DESCRIPTION:Aaron and Michael return to one of our favorite places\, the Sunroom house concert in Dover\, Del. Yes\, this is in 2027!
URL:https://nathansandronstadt.com/event/aaron-michael-at-the-sunroom-in-2027/
LOCATION:Sunroom House Concert\, Dover\, DE\, US
END:VEVENT
END:VCALENDAR